BEGIN:VCALENDAR
VERSION:2.0
PRODID:-//Collectif La Palmera - ECPv6.15.20//NONSGML v1.0//EN
CALSCALE:GREGORIAN
METHOD:PUBLISH
X-ORIGINAL-URL:https://www.collectifpalmera.com
X-WR-CALDESC:Évènements pour Collectif La Palmera
REFRESH-INTERVAL;VALUE=DURATION:PT1H
X-Robots-Tag:noindex
X-PUBLISHED-TTL:PT1H
BEGIN:VTIMEZONE
TZID:UTC
BEGIN:STANDARD
TZOFFSETFROM:+0000
TZOFFSETTO:+0000
TZNAME:UTC
DTSTART:20230101T000000
END:STANDARD
END:VTIMEZONE
BEGIN:VEVENT
DTSTART;TZID=UTC:20240812T163000
DTEND;TZID=UTC:20240812T180000
DTSTAMP:20260423T134315
CREATED:20240625T074003Z
LAST-MODIFIED:20240625T074443Z
UID:2645-1723480200-1723485600@www.collectifpalmera.com
SUMMARY:Mémoires invisibles ou la part manquante
DESCRIPTION:
URL:https://www.collectifpalmera.com/evenement/memoires-invisibles-ou-la-part-manquante-18/
LOCATION:CAFI Cité d’Accueil des Français rapatriés d’Indochine – Salle Mémoire\, Sainte-Livrade-sur-Lot\, 47110
CATEGORIES:Mémoires invisibles
ATTACH;FMTTYPE=image/jpeg:https://www.collectifpalmera.com/wp-content/uploads/2021/09/memoires-invisibles-flou-web.jpg
END:VEVENT
END:VCALENDAR