BEGIN:VCALENDAR
VERSION:2.0
PRODID:-//Collectif La Palmera - ECPv6.15.20//NONSGML v1.0//EN
CALSCALE:GREGORIAN
METHOD:PUBLISH
X-ORIGINAL-URL:https://www.collectifpalmera.com
X-WR-CALDESC:Évènements pour Collectif La Palmera
REFRESH-INTERVAL;VALUE=DURATION:PT1H
X-Robots-Tag:noindex
X-PUBLISHED-TTL:PT1H
BEGIN:VTIMEZONE
TZID:UTC
BEGIN:STANDARD
TZOFFSETFROM:+0000
TZOFFSETTO:+0000
TZNAME:UTC
DTSTART:20220101T000000
END:STANDARD
END:VTIMEZONE
BEGIN:VEVENT
DTSTART;TZID=UTC:20231214T200000
DTEND;TZID=UTC:20231214T200000
DTSTAMP:20260424T041949
CREATED:20230703T103853Z
LAST-MODIFIED:20230703T104221Z
UID:1847-1702584000-1702584000@www.collectifpalmera.com
SUMMARY:Mémoires invisibles ou la part manquante
DESCRIPTION:Horaire à préciser
URL:https://www.collectifpalmera.com/evenement/memoires-invisibles-ou-la-part-manquante-13/
LOCATION:Théâtre du Chevalet\, 6 Pl. Aristide Briand\, Noyon\, 60400\, France
CATEGORIES:Mémoires invisibles
ATTACH;FMTTYPE=image/jpeg:https://www.collectifpalmera.com/wp-content/uploads/2021/09/memoires-invisibles-flou-web.jpg
END:VEVENT
END:VCALENDAR