BEGIN:VCALENDAR
VERSION:2.0
PRODID:-//Collectif La Palmera - ECPv6.15.20//NONSGML v1.0//EN
CALSCALE:GREGORIAN
METHOD:PUBLISH
X-WR-CALNAME:Collectif La Palmera
X-ORIGINAL-URL:https://www.collectifpalmera.com
X-WR-CALDESC:Évènements pour Collectif La Palmera
REFRESH-INTERVAL;VALUE=DURATION:PT1H
X-Robots-Tag:noindex
X-PUBLISHED-TTL:PT1H
BEGIN:VTIMEZONE
TZID:UTC
BEGIN:STANDARD
TZOFFSETFROM:+0000
TZOFFSETTO:+0000
TZNAME:UTC
DTSTART:20220101T000000
END:STANDARD
END:VTIMEZONE
BEGIN:VEVENT
DTSTART;TZID=UTC:20231111T173000
DTEND;TZID=UTC:20231111T223000
DTSTAMP:20260424T041357
CREATED:20230703T100545Z
LAST-MODIFIED:20231104T103752Z
UID:1810-1699723800-1699741800@www.collectifpalmera.com
SUMMARY:Mémoires invisibles ou la part manquante
DESCRIPTION:ouverture des portes à 17h30 pour pouvoir voir l’exposition « Conversations entre 2 rives« 
URL:https://www.collectifpalmera.com/evenement/memoires-invisibles-ou-la-part-manquante-9/
LOCATION:Théatre de Macouria\, face place des fêtes\, Av. Justin Catayé\, Tonate-Macouria\, 97355\, Guyane Française
CATEGORIES:Mémoires invisibles
ATTACH;FMTTYPE=image/jpeg:https://www.collectifpalmera.com/wp-content/uploads/2021/09/memoires-invisibles-flou-web.jpg
END:VEVENT
BEGIN:VEVENT
DTSTART;TZID=UTC:20231123T193000
DTEND;TZID=UTC:20231123T193000
DTSTAMP:20260424T041357
CREATED:20230703T101007Z
LAST-MODIFIED:20230703T103212Z
UID:1814-1700767800-1700767800@www.collectifpalmera.com
SUMMARY:Mémoires invisibles ou la part manquante
DESCRIPTION:Horaire à préciser
URL:https://www.collectifpalmera.com/evenement/memoires-invisibles-ou-la-part-manquante-10/
LOCATION:Théatre Sénart\, 8 All. de la Mixité\, Lieusaint\, 77127\, France
CATEGORIES:Mémoires invisibles
ATTACH;FMTTYPE=image/jpeg:https://www.collectifpalmera.com/wp-content/uploads/2021/09/memoires-invisibles-flou-web.jpg
END:VEVENT
BEGIN:VEVENT
DTSTART;TZID=UTC:20231124T203000
DTEND;TZID=UTC:20231124T203000
DTSTAMP:20260424T041357
CREATED:20230703T103248Z
LAST-MODIFIED:20230703T103248Z
UID:1839-1700857800-1700857800@www.collectifpalmera.com
SUMMARY:Mémoires invisibles ou la part manquante
DESCRIPTION:Horaire à préciser
URL:https://www.collectifpalmera.com/evenement/memoires-invisibles-ou-la-part-manquante-11/
LOCATION:Théatre Sénart\, 8 All. de la Mixité\, Lieusaint\, 77127\, France
CATEGORIES:Mémoires invisibles
ATTACH;FMTTYPE=image/jpeg:https://www.collectifpalmera.com/wp-content/uploads/2021/09/memoires-invisibles-flou-web.jpg
END:VEVENT
BEGIN:VEVENT
DTSTART;TZID=UTC:20231125T180000
DTEND;TZID=UTC:20231125T200000
DTSTAMP:20260424T041357
CREATED:20231021T130735Z
LAST-MODIFIED:20231021T130735Z
UID:1911-1700935200-1700942400@www.collectifpalmera.com
SUMMARY:Mémoires invisibles ou la part manquante
DESCRIPTION:Horaire à préciser
URL:https://www.collectifpalmera.com/evenement/memoires-invisibles-ou-la-part-manquante-16/
LOCATION:Théatre Sénart\, 8 All. de la Mixité\, Lieusaint\, 77127\, France
CATEGORIES:Mémoires invisibles
ATTACH;FMTTYPE=image/jpeg:https://www.collectifpalmera.com/wp-content/uploads/2021/09/memoires-invisibles-flou-web.jpg
END:VEVENT
BEGIN:VEVENT
DTSTART;TZID=UTC:20231125T180000
DTEND;TZID=UTC:20231125T200000
DTSTAMP:20260424T041357
CREATED:20231104T103142Z
LAST-MODIFIED:20231104T103208Z
UID:1919-1700935200-1700942400@www.collectifpalmera.com
SUMMARY:Mémoires invisibles ou la part manquante
DESCRIPTION:Aller-retour Paris-Hanoï. Comment se construire\, partagé entre deux cultures ? L’interrogation est légitime\, d’autant plus quand cette histoire personnelle est couverte de secrets. Le comédienmetteur en scène Paul Nguyen et l’auteure Brigitte Macadré ont tous deux des aïeux  vietnamiens. À partir de conversations\, correspondances\, interviews et scènes de fiction issues de leur imagination\, ils nous entraînent dans une quête – une enquête – des origines et de ce qui définit une identité. Ça commence par une mise en condition olfactive et gustative où odeurs et saveurs de ce pays lointain nous chatouillent narines et papilles\, avant de découvrir au plateau ces histoires sur la double culture de ces descendants d’immigrés. Sont évoqués l’exil\, le déracinement\, la famille\, dans des récits à tiroirs interprétés par trois magnifiques comédiens dont Paul Nguyen lui-même. Ces récits de parcours d’émigrés s’appuient sur des photos d’archives\, anecdotes et chansons\, où il est aussi question de la Grande histoire\, de l’Indochine\, de la décolonisation et de la racisation. La frontière entre fiction et autobiographie est savamment brouillée dans ce spectacle-témoignage qui interpelle chacun de nous sur sa propre construction.
URL:https://www.collectifpalmera.com/evenement/memoires-invisibles-ou-la-part-manquante-17/
LOCATION:Théatre Sénart\, 8 All. de la Mixité\, Lieusaint\, 77127\, France
CATEGORIES:Mémoires invisibles
ATTACH;FMTTYPE=image/jpeg:https://www.collectifpalmera.com/wp-content/uploads/2021/09/memoires-invisibles-flou-web.jpg
END:VEVENT
END:VCALENDAR