BEGIN:VCALENDAR
VERSION:2.0
PRODID:-//Collectif La Palmera - ECPv6.15.20//NONSGML v1.0//EN
CALSCALE:GREGORIAN
METHOD:PUBLISH
X-WR-CALNAME:Collectif La Palmera
X-ORIGINAL-URL:https://www.collectifpalmera.com
X-WR-CALDESC:Évènements pour Collectif La Palmera
REFRESH-INTERVAL;VALUE=DURATION:PT1H
X-Robots-Tag:noindex
X-PUBLISHED-TTL:PT1H
BEGIN:VTIMEZONE
TZID:UTC
BEGIN:STANDARD
TZOFFSETFROM:+0000
TZOFFSETTO:+0000
TZNAME:UTC
DTSTART:20220101T000000
END:STANDARD
END:VTIMEZONE
BEGIN:VEVENT
DTSTART;TZID=UTC:20231123T193000
DTEND;TZID=UTC:20231123T193000
DTSTAMP:20260421T084655
CREATED:20230703T101007Z
LAST-MODIFIED:20230703T103212Z
UID:1814-1700767800-1700767800@www.collectifpalmera.com
SUMMARY:Mémoires invisibles ou la part manquante
DESCRIPTION:Horaire à préciser
URL:https://www.collectifpalmera.com/evenement/memoires-invisibles-ou-la-part-manquante-10/
LOCATION:Théatre Sénart\, 8 All. de la Mixité\, Lieusaint\, 77127\, France
CATEGORIES:Mémoires invisibles
ATTACH;FMTTYPE=image/jpeg:https://www.collectifpalmera.com/wp-content/uploads/2021/09/memoires-invisibles-flou-web.jpg
END:VEVENT
END:VCALENDAR