BEGIN:VCALENDAR
VERSION:2.0
PRODID:-//Collectif La Palmera - ECPv6.15.20//NONSGML v1.0//EN
CALSCALE:GREGORIAN
METHOD:PUBLISH
X-WR-CALNAME:Collectif La Palmera
X-ORIGINAL-URL:https://www.collectifpalmera.com
X-WR-CALDESC:Évènements pour Collectif La Palmera
REFRESH-INTERVAL;VALUE=DURATION:PT1H
X-Robots-Tag:noindex
X-PUBLISHED-TTL:PT1H
BEGIN:VTIMEZONE
TZID:UTC
BEGIN:STANDARD
TZOFFSETFROM:+0000
TZOFFSETTO:+0000
TZNAME:UTC
DTSTART:20210101T000000
END:STANDARD
END:VTIMEZONE
BEGIN:VEVENT
DTSTART;TZID=UTC:20220310T203000
DTEND;TZID=UTC:20220310T220000
DTSTAMP:20260421T091058
CREATED:20210922T083105Z
LAST-MODIFIED:20220126T161953Z
UID:1181-1646944200-1646949600@www.collectifpalmera.com
SUMMARY:Antigone ma sœur
DESCRIPTION:
URL:https://www.collectifpalmera.com/evenement/antigone-ma-soeur/
LOCATION:Théâtre de Corbeil-Essones\, 22 Rue Félicien Rops\, Corbeil-Essonnes\, 91100
CATEGORIES:Antigone ma soeur
ATTACH;FMTTYPE=image/jpeg:https://www.collectifpalmera.com/wp-content/uploads/2021/09/Antigone-ma-soeur-visuel-2.jpg
END:VEVENT
END:VCALENDAR